BEGIN:VCALENDAR
VERSION:2.0
PRODID:-//ChamberMaster//Event Calendar 2.0//EN
METHOD:PUBLISH
X-PUBLISHED-TTL:P3D
REFRESH-INTERVAL:P3D
CALSCALE:GREGORIAN
BEGIN:VEVENT
DTSTART:20151006T130000Z
DTEND:20151006T183000Z
X-MICROSOFT-CDO-ALLDAYEVENT:FALSE
SUMMARY:Bras Ending Breast Cancer Design Voting
DESCRIPTION:Bra design entries from the Bras Ending Breast Cancer event will be on display for voting. \n\n$1 per Best in Show \n\n$5 per ticket D through G\n\n$20 for 20 Best in Show tickets + 1 ticket each for D through G\n\n\n\nCategories and prizes include:\n\nA. Best in Show - $100\n\nB. Best in Show 1st Runner Up - $50\n\nC. Best in Show 2nd Runner Up - $25\n\nD. Most Creative - $25\n\nE. Prettiest - $25\n\nF. Funniest - $25\n\nG. Best Cancer Awareness Message - $25\n\nH. Best Cancer Survivor Entry - $25\n\nI.  Best Knapp Departmental Entry - $25
X-ALT-DESC;FMTTYPE=text/html:<p>Bra design entries from the Bras Ending Breast Cancer event will be on display for voting.&nbsp\;</p>\n\n<p>$1 per Best in Show&nbsp\;<br />\n$5 per ticket D through G<br />\n$20 for 20 Best in Show tickets + 1 ticket each for D through G<br />\n<br />\nCategories and prizes include:<br />\nA. Best in Show - $100<br />\nB. Best in Show 1st Runner Up - $50<br />\nC. Best in Show 2nd Runner Up - $25<br />\nD. Most Creative - $25<br />\nE. Prettiest - $25<br />\nF. Funniest - $25<br />\nG. Best Cancer Awareness Message - $25<br />\nH. Best Cancer Survivor Entry - $25<br />\nI. &nbsp\;Best Knapp Departmental Entry - $25</p>\n
LOCATION:Knapp Medical Conference Center
UID:e.1244.8735
SEQUENCE:3
DTSTAMP:20260423T095453Z
URL:https://business.weslaco.com/events/details/bras-ending-breast-cancer-design-voting-10-06-2015-8735
END:VEVENT

END:VCALENDAR
