BEGIN:VCALENDAR
VERSION:2.0
PRODID:-//ChamberMaster//Event Calendar 2.0//EN
METHOD:PUBLISH
X-PUBLISHED-TTL:P3D
REFRESH-INTERVAL:P3D
CALSCALE:GREGORIAN
BEGIN:VEVENT
DTSTART:20151006T173000Z
DTEND:20151006T190000Z
X-MICROSOFT-CDO-ALLDAYEVENT:FALSE
SUMMARY:Bras Ending Breast Cancer Style Show
DESCRIPTION:Knapp Medical Center presents Bras Ending Breast Cancer\, a fundraiser that raises money for indigent women to receive screening mammograms.  All of the designed bras will be modeled in a style show at the Knapp Medical Conference Center.  Boxed lunches will be available for $5 from 11:30 am to 1 pm.
X-ALT-DESC;FMTTYPE=text/html:Knapp Medical Center presents Bras Ending Breast Cancer\, a fundraiser that raises money for indigent women to receive screening mammograms. &nbsp\;All of the designed bras will be modeled in a style show at the Knapp Medical Conference Center. &nbsp\;Boxed lunches will be available for $5 from 11:30 am to 1 pm.
LOCATION:Knapp Medical Conference Center
UID:e.1244.8733
SEQUENCE:3
DTSTAMP:20260423T095730Z
URL:https://business.weslaco.com/events/details/bras-ending-breast-cancer-style-show-10-06-2015-8733
END:VEVENT

END:VCALENDAR
