BEGIN:VCALENDAR
VERSION:2.0
PRODID:-//ChamberMaster//Event Calendar 2.0//EN
METHOD:PUBLISH
X-PUBLISHED-TTL:P3D
REFRESH-INTERVAL:P3D
CALSCALE:GREGORIAN
BEGIN:VEVENT
DTSTART:20151205T150000Z
DTEND:20151205T170000Z
X-MICROSOFT-CDO-ALLDAYEVENT:FALSE
SUMMARY:Breakfast with Santa at Chick-fil-A
DESCRIPTION:Come ready to enjoy pictures with Santa\, Christmas Crafts\, and a FREE 3ct. Chick-n-Mini Entree for each child dressed in their favorite Christmas Pajamas! 9 am to 11 am.
X-ALT-DESC;FMTTYPE=text/html:<span style="font-family: 'Trebuchet MS'\, Verdana\, Helvetica\, sans-serif\; font-size: 10pt\; line-height: normal\;">Come ready to enjoy pictures with Santa\, Christmas Crafts\, and a FREE 3ct. Chick-n-Mini Entree for each child dressed in their favorite Christmas Pajamas! 9 am to 11 am.&nbsp\;</span>
LOCATION:Chick-fil-A Westgate Blvd.
UID:e.1244.9064
SEQUENCE:3
DTSTAMP:20260423T082401Z
URL:https://business.weslaco.com/events/details/breakfast-with-santa-at-chick-fil-a-12-05-2015-9064
END:VEVENT

END:VCALENDAR
