BEGIN:VCALENDAR
VERSION:2.0
PRODID:-//ChamberMaster//Event Calendar 2.0//EN
METHOD:PUBLISH
X-PUBLISHED-TTL:P3D
REFRESH-INTERVAL:P3D
CALSCALE:GREGORIAN
BEGIN:VEVENT
DTSTART:20171202T140000Z
DTEND:20171202T160000Z
X-MICROSOFT-CDO-ALLDAYEVENT:FALSE
SUMMARY:Breakfast with Santa at Chick-fil-A
DESCRIPTION:Come ready to enjoy pictures with Santa and Christmas Crafts.
X-ALT-DESC;FMTTYPE=text/html:<span style="font-family: 'Trebuchet MS'\, Verdana\, Helvetica\, sans-serif\; font-size: 10pt\; line-height: normal\;">Come ready to enjoy pictures with Santa and Christmas Crafts.</span>
LOCATION:Chick-fil-A of Weslaco 1200 N. Westgate Dr.
UID:e.1244.14465
SEQUENCE:3
DTSTAMP:20260421T155706Z
URL:https://business.weslaco.com/events/details/breakfast-with-santa-at-chick-fil-a-14465
END:VEVENT

END:VCALENDAR
