BEGIN:VCALENDAR
VERSION:2.0
PRODID:-//ChamberMaster//Event Calendar 2.0//EN
METHOD:PUBLISH
X-PUBLISHED-TTL:P3D
REFRESH-INTERVAL:P3D
CALSCALE:GREGORIAN
BEGIN:VEVENT
DTSTART:20191110T010000Z
DTEND:20191110T040000Z
X-MICROSOFT-CDO-ALLDAYEVENT:FALSE
SUMMARY:Brew In The Woods at Valley Nature Center
DESCRIPTION:Join us for an awesome night of craft beers\, delectable food\, live music and much more! Tickets are $ 45.00 per person. Must be 21 or older to attend. Tickets can be purchased online at Valleynaturecenter.org\, or by stopping by the Valley Nature Please call (956) 969-2475 if you have any questions.
X-ALT-DESC;FMTTYPE=text/html:<span style="color: rgb(29\, 33\, 41)\; font-family: Helvetica\, Arial\, sans-serif\; font-size: 14px\; white-space: pre-wrap\;">Join us for an awesome night of craft beers\, delectable food\, live music and much more! Tickets are $ 45.00 per person. Must be 21 or older to attend. Tickets can be purchased online at </span><a data-lynx-mode="hover" href="https://l.facebook.com/l.php?u=http%3A%2F%2FValleynaturecenter.org%2F%3Ffbclid%3DIwAR38eGWRSNhb1fKFZChPttEqmHIsHGjHS0qqQrPCTeE1M-IroexOy0eVI6k&amp\;h=AT2tHIJeDUbEjn3BJQdfj9ESREik73KI9cNKwQfvHAjrqtSnC4ZY4e6Ml4BGU2G2pTTSsAsXG2bYRuUVaM3vGQb3pfY3Tpi0Rt7L2LobgQ42yx8jIYtxpbGHSpkIxb49Ng" rel="nofollow noopener" style="color: rgb(56\, 88\, 152)\; cursor: pointer\; text-decoration-line: none\; font-family: Helvetica\, Arial\, sans-serif\; font-size: 14px\; white-space: pre-wrap\;" target="_blank">Valleynaturecenter.org</a><span style="color: rgb(29\, 33\, 41)\; font-family: Helvetica\, Arial\, sans-serif\; font-size: 14px\; white-space: pre-wrap\;">\, or by stopping by the Valley Nature Please call (956) 969-2475 if you have any questions.</span><br />\n&nbsp\;
LOCATION:301 South Border Ave Weslaco\, TX 78596
UID:e.1244.18783
SEQUENCE:3
DTSTAMP:20260420T013810Z
URL:https://business.weslaco.com/events/details/brew-in-the-woods-at-valley-nature-center-18783
END:VEVENT

END:VCALENDAR
