BEGIN:VCALENDAR
VERSION:2.0
PRODID:-//ChamberMaster//Event Calendar 2.0//EN
METHOD:PUBLISH
X-PUBLISHED-TTL:P3D
REFRESH-INTERVAL:P3D
CALSCALE:GREGORIAN
BEGIN:VEVENT
DTSTART:20190607T000000Z
DTEND:20190607T020000Z
X-MICROSOFT-CDO-ALLDAYEVENT:FALSE
SUMMARY:Bring Your Colors Walk at Estero Llano Grande
DESCRIPTION:Join us for a guided hike that supports cancer awareness. Let's walk all over cancer! Support cancer awareness by joining us on a guided hike along trails this summer. No one fights alone. Open to all ages. Entry fees apply ($5 for adults\, free for children 12-and-under). Meet at the Deck near the Park Store at the Visitor Center
X-ALT-DESC;FMTTYPE=text/html:<span style="font-family:arial\;"><span style="font-size:14px\;"><span style="white-space: pre-wrap\;">Join us for a guided hike that supports cancer awareness. Let&#39\;s walk all over cancer! Support cancer awareness by joining us on a guided hike along trails this summer. No one fights alone. Open to all ages. Entry fees apply ($5 for adults\, free for children 12-and-under). Meet at the Deck near the Park Store at the Visitor Center</span></span></span>
LOCATION:Estero Llano Grande State Park
UID:e.1244.18206
SEQUENCE:3
DTSTAMP:20260420T094159Z
URL:https://business.weslaco.com/events/details/bring-your-colors-walk-at-estero-llano-grande-18206
END:VEVENT

END:VCALENDAR
