BEGIN:VCALENDAR
VERSION:2.0
PRODID:-//ChamberMaster//Event Calendar 2.0//EN
METHOD:PUBLISH
X-PUBLISHED-TTL:P3D
REFRESH-INTERVAL:P3D
CALSCALE:GREGORIAN
BEGIN:VEVENT
DTSTART:20191115T170000Z
DTEND:20191115T180000Z
X-MICROSOFT-CDO-ALLDAYEVENT:FALSE
SUMMARY:Buffalo Wild Wings Grand Re-opening
DESCRIPTION:Join us for a special ribbon cutting and grand re-opening ceremony at Buffalo Wild Wings!
X-ALT-DESC;FMTTYPE=text/html:Join us for a special ribbon cutting and grand re-opening ceremony at Buffalo Wild Wings!
LOCATION:1909 W. Expressway 83 Weslaco\, TX
UID:e.1244.18818
SEQUENCE:3
DTSTAMP:20260420T013729Z
URL:https://business.weslaco.com/events/details/buffalo-wild-wings-grand-re-opening-18818
END:VEVENT

END:VCALENDAR
