BEGIN:VCALENDAR
VERSION:2.0
PRODID:-//ChamberMaster//Event Calendar 2.0//EN
METHOD:PUBLISH
X-PUBLISHED-TTL:P3D
REFRESH-INTERVAL:P3D
CALSCALE:GREGORIAN
BEGIN:VEVENT
DTSTART:20190804T000000Z
DTEND:20190804T070000Z
X-MICROSOFT-CDO-ALLDAYEVENT:FALSE
SUMMARY:Buffalo Wings and Rings 10th Anniversary Party
DESCRIPTION:10th Anniversary Party: August 3 from 7pm - 2am\n\n\n\n- Mariachis: 8-9pm\n\n\n\n- DJ: 9:30 - 1:30pm\n\n\n\n- $4 Amaretto Sours & Cherry Vodka Sours\n\n\n\n- $3.75 Import Pints
X-ALT-DESC;FMTTYPE=text/html:<div data-block="true" data-editor="a8n4t" data-offset-key="bt77j-0-0" style="font-family: Helvetica\, Arial\, sans-serif\; color: rgb(28\, 30\, 33)\; font-size: 12px\; white-space: pre-wrap\;">\n<div class="_1mf _1mj" data-offset-key="bt77j-0-0" style="position: relative\; direction: ltr\; font-family: inherit\;"><span data-offset-key="bt77j-0-0" style="font-family: inherit\;">10th Anniversary Party: August 3 from 7pm - 2am</span></div>\n</div>\n\n<div data-block="true" data-editor="a8n4t" data-offset-key="6a4n6-0-0" style="font-family: Helvetica\, Arial\, sans-serif\; color: rgb(28\, 30\, 33)\; font-size: 12px\; white-space: pre-wrap\;">\n<div class="_1mf _1mj" data-offset-key="6a4n6-0-0" style="position: relative\; direction: ltr\; font-family: inherit\;"><span data-offset-key="6a4n6-0-0" style="font-family: inherit\;">- Mariachis: 8-9pm</span></div>\n</div>\n\n<div data-block="true" data-editor="a8n4t" data-offset-key="29pm7-0-0" style="font-family: Helvetica\, Arial\, sans-serif\; color: rgb(28\, 30\, 33)\; font-size: 12px\; white-space: pre-wrap\;">\n<div class="_1mf _1mj" data-offset-key="29pm7-0-0" style="position: relative\; direction: ltr\; font-family: inherit\;"><span data-offset-key="29pm7-0-0" style="font-family: inherit\;">- DJ: 9:30 - 1:30pm</span></div>\n</div>\n\n<div data-block="true" data-editor="a8n4t" data-offset-key="fcvqh-0-0" style="font-family: Helvetica\, Arial\, sans-serif\; color: rgb(28\, 30\, 33)\; font-size: 12px\; white-space: pre-wrap\;">\n<div class="_1mf _1mj" data-offset-key="fcvqh-0-0" style="position: relative\; direction: ltr\; font-family: inherit\;"><span data-offset-key="fcvqh-0-0" style="font-family: inherit\;">- $4 Amaretto Sours &amp\; Cherry Vodka Sours</span></div>\n</div>\n\n<div data-block="true" data-editor="a8n4t" data-offset-key="e7ie0-0-0" style="font-family: Helvetica\, Arial\, sans-serif\; color: rgb(28\, 30\, 33)\; font-size: 12px\; white-space: pre-wrap\;">\n<div class="_1mf _1mj" data-offset-key="e7ie0-0-0" style="position: relative\; direction: ltr\; font-family: inherit\;"><span data-offset-key="e7ie0-0-0" style="font-family: inherit\;">- $3.75 Import Pints</span></div>\n</div>\n
LOCATION:Buffalo Wings and Rings Weslaco
UID:e.1244.18718
SEQUENCE:3
DTSTAMP:20260420T062752Z
URL:https://business.weslaco.com/events/details/buffalo-wings-and-rings-10th-anniversary-party-18718
END:VEVENT

END:VCALENDAR
