BEGIN:VCALENDAR
VERSION:2.0
PRODID:-//ChamberMaster//Event Calendar 2.0//EN
METHOD:PUBLISH
X-PUBLISHED-TTL:P3D
REFRESH-INTERVAL:P3D
CALSCALE:GREGORIAN
BEGIN:VEVENT
DTSTART:20190802T223000Z
DTEND:20190802T233000Z
X-MICROSOFT-CDO-ALLDAYEVENT:FALSE
SUMMARY:Buffalo Wings and Rings 10th Anniversary Ribbon Cutting
DESCRIPTION:Join us as we celebrate ten years of Buffalo Wings and Rings in Weslaco! They'll be having a week long celebration beginning Monday\, July 29. Ribbon cutting will be held Friday\, August 2 at 5:30 pm.\n\n\n\n \n\n\n\nSee schedule below:\n\n\n\n \n\n\n\n10th Anniversary Party: August 3 from 7pm - 2am\n\n\n\n- Mariachis: 8-9pm\n\n\n\n- DJ: 9:30 - 1:30pm\n\n\n\n- $4 Amaretto Sours & Cherry Vodka Sours\n\n\n\n- $3.75 Import Pints\n\n\n\n \n\n\n\nDaily Specials: \n\n\n\n- July 29: 50  wings\, $3 Bud Light & Dos XX\, Kids Eat Free\, Face Painting 3-5pm\, Raffle\n\n\n\n- July 30: 50  wings\, $3 Bud\, $3.75 Corona\, $3 Margaritas\n\n\n\n- July 31: 69  tenders\, $3 Miller Lite\, $3.75 Tecate\, $3 LITs\n\n\n\n- Aug 1: $5 Cheeseburger & Fries\, 79  Boneless Wings\, $4 Chips & Queso\, $3 Dom Pints\, $5 Tito's\n\n\n\n- Aug 2: $10 Combo - 10 Wings with select sides*\, $3 Margaritas\n\n\n\n- Aug 3: 10th Anniversary Party!
X-ALT-DESC;FMTTYPE=text/html:<div data-block="true" data-editor="a8n4t" data-offset-key="5o4lh-0-0" style="font-family: Helvetica\, Arial\, sans-serif\; color: rgb(28\, 30\, 33)\; font-size: 12px\; white-space: pre-wrap\;">\n<div class="_1mf _1mj" data-offset-key="5o4lh-0-0" style="position: relative\; direction: ltr\; font-family: inherit\;"><span data-offset-key="5o4lh-0-0" style="font-family: inherit\;">Join us as we celebrate ten years of Buffalo Wings and Rings in Weslaco! They&#39\;ll be having a week long celebration beginning Monday\, July 29. Ribbon cutting will be held Friday\, August 2 at 5:30 pm.</span></div>\n</div>\n\n<div data-block="true" data-editor="a8n4t" data-offset-key="87p6m-0-0" style="font-family: Helvetica\, Arial\, sans-serif\; color: rgb(28\, 30\, 33)\; font-size: 12px\; white-space: pre-wrap\;">\n<div class="_1mf _1mj" data-offset-key="87p6m-0-0" style="position: relative\; direction: ltr\; font-family: inherit\;">&nbsp\;</div>\n</div>\n\n<div data-block="true" data-editor="a8n4t" data-offset-key="80s92-0-0" style="font-family: Helvetica\, Arial\, sans-serif\; color: rgb(28\, 30\, 33)\; font-size: 12px\; white-space: pre-wrap\;">\n<div class="_1mf _1mj" data-offset-key="80s92-0-0" style="position: relative\; direction: ltr\; font-family: inherit\;"><span data-offset-key="80s92-0-0" style="font-family: inherit\;">See schedule below:</span></div>\n</div>\n\n<div data-block="true" data-editor="a8n4t" data-offset-key="3o2du-0-0" style="font-family: Helvetica\, Arial\, sans-serif\; color: rgb(28\, 30\, 33)\; font-size: 12px\; white-space: pre-wrap\;">\n<div class="_1mf _1mj" data-offset-key="3o2du-0-0" style="position: relative\; direction: ltr\; font-family: inherit\;">&nbsp\;</div>\n</div>\n\n<div data-block="true" data-editor="a8n4t" data-offset-key="bt77j-0-0" style="font-family: Helvetica\, Arial\, sans-serif\; color: rgb(28\, 30\, 33)\; font-size: 12px\; white-space: pre-wrap\;">\n<div class="_1mf _1mj" data-offset-key="bt77j-0-0" style="position: relative\; direction: ltr\; font-family: inherit\;"><span data-offset-key="bt77j-0-0" style="font-family: inherit\;">10th Anniversary Party: August 3 from 7pm - 2am</span></div>\n</div>\n\n<div data-block="true" data-editor="a8n4t" data-offset-key="6a4n6-0-0" style="font-family: Helvetica\, Arial\, sans-serif\; color: rgb(28\, 30\, 33)\; font-size: 12px\; white-space: pre-wrap\;">\n<div class="_1mf _1mj" data-offset-key="6a4n6-0-0" style="position: relative\; direction: ltr\; font-family: inherit\;"><span data-offset-key="6a4n6-0-0" style="font-family: inherit\;">- Mariachis: 8-9pm</span></div>\n</div>\n\n<div data-block="true" data-editor="a8n4t" data-offset-key="29pm7-0-0" style="font-family: Helvetica\, Arial\, sans-serif\; color: rgb(28\, 30\, 33)\; font-size: 12px\; white-space: pre-wrap\;">\n<div class="_1mf _1mj" data-offset-key="29pm7-0-0" style="position: relative\; direction: ltr\; font-family: inherit\;"><span data-offset-key="29pm7-0-0" style="font-family: inherit\;">- DJ: 9:30 - 1:30pm</span></div>\n</div>\n\n<div data-block="true" data-editor="a8n4t" data-offset-key="fcvqh-0-0" style="font-family: Helvetica\, Arial\, sans-serif\; color: rgb(28\, 30\, 33)\; font-size: 12px\; white-space: pre-wrap\;">\n<div class="_1mf _1mj" data-offset-key="fcvqh-0-0" style="position: relative\; direction: ltr\; font-family: inherit\;"><span data-offset-key="fcvqh-0-0" style="font-family: inherit\;">- $4 Amaretto Sours &amp\; Cherry Vodka Sours</span></div>\n</div>\n\n<div data-block="true" data-editor="a8n4t" data-offset-key="e7ie0-0-0" style="font-family: Helvetica\, Arial\, sans-serif\; color: rgb(28\, 30\, 33)\; font-size: 12px\; white-space: pre-wrap\;">\n<div class="_1mf _1mj" data-offset-key="e7ie0-0-0" style="position: relative\; direction: ltr\; font-family: inherit\;"><span data-offset-key="e7ie0-0-0" style="font-family: inherit\;">- $3.75 Import Pints</span></div>\n</div>\n\n<div data-block="true" data-editor="a8n4t" data-offset-key="cv2pn-0-0" style="font-family: Helvetica\, Arial\, sans-serif\; color: rgb(28\, 30\, 33)\; font-size: 12px\; white-space: pre-wrap\;">\n<div class="_1mf _1mj" data-offset-key="cv2pn-0-0" style="position: relative\; direction: ltr\; font-family: inherit\;">&nbsp\;</div>\n</div>\n\n<div data-block="true" data-editor="a8n4t" data-offset-key="d7uh5-0-0" style="font-family: Helvetica\, Arial\, sans-serif\; color: rgb(28\, 30\, 33)\; font-size: 12px\; white-space: pre-wrap\;">\n<div class="_1mf _1mj" data-offset-key="d7uh5-0-0" style="position: relative\; direction: ltr\; font-family: inherit\;"><span data-offset-key="d7uh5-0-0" style="font-family: inherit\;">Daily Specials: </span></div>\n</div>\n\n<div data-block="true" data-editor="a8n4t" data-offset-key="bvk91-0-0" style="font-family: Helvetica\, Arial\, sans-serif\; color: rgb(28\, 30\, 33)\; font-size: 12px\; white-space: pre-wrap\;">\n<div class="_1mf _1mj" data-offset-key="bvk91-0-0" style="position: relative\; direction: ltr\; font-family: inherit\;"><span data-offset-key="bvk91-0-0" style="font-family: inherit\;">- July 29: 50&cent\; wings\, $3 Bud Light &amp\; Dos XX\, Kids Eat Free\, Face Painting 3-5pm\, Raffle</span></div>\n</div>\n\n<div data-block="true" data-editor="a8n4t" data-offset-key="eurqf-0-0" style="font-family: Helvetica\, Arial\, sans-serif\; color: rgb(28\, 30\, 33)\; font-size: 12px\; white-space: pre-wrap\;">\n<div class="_1mf _1mj" data-offset-key="eurqf-0-0" style="position: relative\; direction: ltr\; font-family: inherit\;"><span data-offset-key="eurqf-0-0" style="font-family: inherit\;">- July 30: 50&cent\; wings\, $3 Bud\, $3.75 Corona\, $3 Margaritas</span></div>\n</div>\n\n<div data-block="true" data-editor="a8n4t" data-offset-key="5ccf6-0-0" style="font-family: Helvetica\, Arial\, sans-serif\; color: rgb(28\, 30\, 33)\; font-size: 12px\; white-space: pre-wrap\;">\n<div class="_1mf _1mj" data-offset-key="5ccf6-0-0" style="position: relative\; direction: ltr\; font-family: inherit\;"><span data-offset-key="5ccf6-0-0" style="font-family: inherit\;">- July 31: 69&cent\; tenders\, $3 Miller Lite\, $3.75 Tecate\, $3 LITs</span></div>\n</div>\n\n<div data-block="true" data-editor="a8n4t" data-offset-key="fmobo-0-0" style="font-family: Helvetica\, Arial\, sans-serif\; color: rgb(28\, 30\, 33)\; font-size: 12px\; white-space: pre-wrap\;">\n<div class="_1mf _1mj" data-offset-key="fmobo-0-0" style="position: relative\; direction: ltr\; font-family: inherit\;"><span data-offset-key="fmobo-0-0" style="font-family: inherit\;">- Aug 1: $5 Cheeseburger &amp\; Fries\, 79&cent\; Boneless Wings\, $4 Chips &amp\; Queso\, $3 Dom Pints\, $5 Tito&rsquo\;s</span></div>\n</div>\n\n<div data-block="true" data-editor="a8n4t" data-offset-key="5vo6d-0-0" style="font-family: Helvetica\, Arial\, sans-serif\; color: rgb(28\, 30\, 33)\; font-size: 12px\; white-space: pre-wrap\;">\n<div class="_1mf _1mj" data-offset-key="5vo6d-0-0" style="position: relative\; direction: ltr\; font-family: inherit\;"><span data-offset-key="5vo6d-0-0" style="font-family: inherit\;">- Aug 2: $10 Combo - 10 Wings with select sides*\, $3 Margaritas</span></div>\n</div>\n\n<div data-block="true" data-editor="a8n4t" data-offset-key="496tr-0-0" style="font-family: Helvetica\, Arial\, sans-serif\; color: rgb(28\, 30\, 33)\; font-size: 12px\; white-space: pre-wrap\;">\n<div class="_1mf _1mj" data-offset-key="496tr-0-0" style="position: relative\; direction: ltr\; font-family: inherit\;"><span data-offset-key="496tr-0-0" style="font-family: inherit\;">- Aug 3: 10th Anniversary Party!</span></div>\n</div>\n
LOCATION:Buffalo Wings and Rings
UID:e.1244.18717
SEQUENCE:3
DTSTAMP:20260420T062740Z
URL:https://business.weslaco.com/events/details/buffalo-wings-and-rings-10th-anniversary-ribbon-cutting-18717
END:VEVENT

END:VCALENDAR
