BEGIN:VCALENDAR
VERSION:2.0
PRODID:-//ChamberMaster//Event Calendar 2.0//EN
METHOD:PUBLISH
X-PUBLISHED-TTL:P3D
REFRESH-INTERVAL:P3D
CALSCALE:GREGORIAN
BEGIN:VEVENT
DTSTART:20151212T010000Z
DTEND:20151212T040000Z
X-MICROSOFT-CDO-ALLDAYEVENT:FALSE
SUMMARY:Bunuelo Bites and Christmas Lights
DESCRIPTION:Christmas spirit abounds with carols and crafts. Have some bunuelos and some hot chocolate on a tinseled trolley ride or take a stroll in the lighted forest.
X-ALT-DESC;FMTTYPE=text/html:Christmas spirit abounds with carols and crafts. Have some bunuelos and some hot chocolate on a tinseled trolley ride or take a stroll in the lighted forest.
LOCATION:Estero Llano Grande State Park 3301 S. International Blvd.
UID:e.1244.9060
SEQUENCE:3
DTSTAMP:20260423T082359Z
URL:https://business.weslaco.com/events/details/bunuelo-bites-and-christmas-lights-12-11-2015-9060
END:VEVENT

END:VCALENDAR
