BEGIN:VCALENDAR
VERSION:2.0
PRODID:-//ChamberMaster//Event Calendar 2.0//EN
METHOD:PUBLISH
X-PUBLISHED-TTL:P3D
REFRESH-INTERVAL:P3D
CALSCALE:GREGORIAN
BEGIN:VEVENT
DTSTART:20171026T223000Z
DTEND:20171027T000000Z
X-MICROSOFT-CDO-ALLDAYEVENT:FALSE
SUMMARY:Business After Hours Mixer sponsored by Borderland Hardware
DESCRIPTION:Check out the holiday items at Borderland Hardware while enjoying some appetizers\, networking\, and our famous Border Buttermilk!
X-ALT-DESC;FMTTYPE=text/html:<span style="font-style:italic\;language:en-US\;"><span style="font-family:gill sans mt\;"><span style="font-size:12.0pt\;">Check out the holiday items at Borderland Hardware while enjoying some appetizers\, networking\, and our famous Border Buttermilk!</span></span></span><br />\n&nbsp\;<br />\n&nbsp\;
LOCATION:Borderland Hardware 300 S. Missouri Ave. Weslaco\, TX
UID:e.1244.14422
SEQUENCE:3
DTSTAMP:20260421T190250Z
URL:https://business.weslaco.com/events/details/business-after-hours-mixer-sponsored-by-borderland-hardware-14422
END:VEVENT

END:VCALENDAR
