BEGIN:VCALENDAR
VERSION:2.0
PRODID:-//ChamberMaster//Event Calendar 2.0//EN
METHOD:PUBLISH
X-PUBLISHED-TTL:P3D
REFRESH-INTERVAL:P3D
CALSCALE:GREGORIAN
BEGIN:VEVENT
DTSTART:20150226T230000Z
DTEND:20150227T003000Z
X-MICROSOFT-CDO-ALLDAYEVENT:FALSE
SUMMARY:Business After Hours Mixer sponsored by Knapp Community Care Foundation
DESCRIPTION:
X-ALT-DESC;FMTTYPE=text/html:
LOCATION:Knapp Medical Conference Center 1401 E. Eighth St. Weslaco
UID:e.1244.6051
SEQUENCE:3
DTSTAMP:20260423T225110Z
URL:https://business.weslaco.com/events/details/business-after-hours-mixer-sponsored-by-knapp-community-care-foundation-02-26-2015-6051
END:VEVENT

END:VCALENDAR
