BEGIN:VCALENDAR
VERSION:2.0
PRODID:-//ChamberMaster//Event Calendar 2.0//EN
METHOD:PUBLISH
X-PUBLISHED-TTL:P3D
REFRESH-INTERVAL:P3D
CALSCALE:GREGORIAN
BEGIN:VEVENT
DTSTART:20190228T233000Z
DTEND:20190301T013000Z
X-MICROSOFT-CDO-ALLDAYEVENT:FALSE
SUMMARY:Business After Hours Mixer sponsored by LaserLux
DESCRIPTION:Meet Leadership Mid Valley Class XIV and learn more about the program while enjoying refreshments and networking.\n\nDon't forget the business cards!
X-ALT-DESC;FMTTYPE=text/html:<span style="font-style:italic\;font-weight:bold\;language:en-US\;"><span style="font-family:calibri\;"><span style="font-size:12.0pt\;">Meet Leadership Mid Valley Class XIV and learn more about the program while enjoying refreshments and networking.<br />\nDon&rsquo\;t forget the business cards!</span></span></span><br />\n&nbsp\;<br />\n&nbsp\;
LOCATION:Business Visitor Event Center 275 S. Kansas\, Weslaco
UID:e.1244.17100
SEQUENCE:3
DTSTAMP:20260420T175826Z
URL:https://business.weslaco.com/events/details/business-after-hours-mixer-sponsored-by-laserlux-17100
END:VEVENT

END:VCALENDAR
