BEGIN:VCALENDAR
VERSION:2.0
PRODID:-//ChamberMaster//Event Calendar 2.0//EN
METHOD:PUBLISH
X-PUBLISHED-TTL:P3D
REFRESH-INTERVAL:P3D
CALSCALE:GREGORIAN
BEGIN:VEVENT
DTSTART:20181004T223000Z
DTEND:20181005T003000Z
X-MICROSOFT-CDO-ALLDAYEVENT:FALSE
SUMMARY:Business After Hours Mixer sponsored by South Texas Federal Credit Union
DESCRIPTION:Appetizers & refreshments will be served.\n\nBe automatically entered for a 32" Smart Roku TV! Must be present to win.
X-ALT-DESC;FMTTYPE=text/html:Appetizers &amp\; refreshments will be served.<br />\nBe automatically entered for a 32&rdquo\; Smart Roku TV! Must be present to win.<br />\n<br />\n&nbsp\;
LOCATION:South Texas Federal Credit Union 401 N. Westgate Weslaco\, TX
UID:e.1244.16973
SEQUENCE:3
DTSTAMP:20260421T010058Z
URL:https://business.weslaco.com/events/details/business-after-hours-mixer-sponsored-by-south-texas-federal-credit-union-16973
END:VEVENT

END:VCALENDAR
