BEGIN:VCALENDAR
VERSION:2.0
PRODID:-//ChamberMaster//Event Calendar 2.0//EN
METHOD:PUBLISH
X-PUBLISHED-TTL:P3D
REFRESH-INTERVAL:P3D
CALSCALE:GREGORIAN
BEGIN:VEVENT
DTSTART:20160310T233000Z
DTEND:20160311T010000Z
X-MICROSOFT-CDO-ALLDAYEVENT:FALSE
SUMMARY:Business After Hours sponsored by Dignity Memorial
DESCRIPTION:Enjoy networking\, refreshments\, and our delicious Border Buttermilk! Sponsored by Dignity Memorial.
X-ALT-DESC;FMTTYPE=text/html:Enjoy networking\, refreshments\, and our delicious Border Buttermilk! Sponsored by Dignity Memorial.
LOCATION:Khan's Grill 2307 W. Expressway 83
UID:e.1244.10932
SEQUENCE:3
DTSTAMP:20260423T023615Z
URL:https://business.weslaco.com/events/details/business-after-hours-sponsored-by-dignity-memorial-03-10-2016-10932
END:VEVENT

END:VCALENDAR
