BEGIN:VCALENDAR
VERSION:2.0
PRODID:-//ChamberMaster//Event Calendar 2.0//EN
METHOD:PUBLISH
X-PUBLISHED-TTL:P3D
REFRESH-INTERVAL:P3D
CALSCALE:GREGORIAN
BEGIN:VEVENT
DTSTART:20190801T223000Z
DTEND:20190802T003000Z
X-MICROSOFT-CDO-ALLDAYEVENT:FALSE
SUMMARY:Business After Hours sponsored by South Texas Federal Credit Union
DESCRIPTION:Appetizers and refreshments will be served. Be automatically entered for one of five gift baskets!
X-ALT-DESC;FMTTYPE=text/html:Appetizers and refreshments will be served. Be automatically entered for one of five gift baskets!
LOCATION:South Texas Federal Credit Union 401 N .Westgate
UID:e.1244.18712
SEQUENCE:3
DTSTAMP:20260420T062934Z
URL:https://business.weslaco.com/events/details/business-after-hours-sponsored-by-south-texas-federal-credit-union-18712
END:VEVENT

END:VCALENDAR
