BEGIN:VCALENDAR
VERSION:2.0
PRODID:-//ChamberMaster//Event Calendar 2.0//EN
METHOD:PUBLISH
X-PUBLISHED-TTL:P3D
REFRESH-INTERVAL:P3D
CALSCALE:GREGORIAN
BEGIN:VEVENT
DTSTART:20170811T150000Z
DTEND:20170811T160000Z
X-MICROSOFT-CDO-ALLDAYEVENT:FALSE
SUMMARY:Busy Bristles Art Studio Ribbon Cutting
DESCRIPTION:
X-ALT-DESC;FMTTYPE=text/html:
LOCATION:308A S. Texas Blvd. Weslaco
UID:e.1244.12779
SEQUENCE:3
DTSTAMP:20260421T220349Z
URL:https://business.weslaco.com/events/details/busy-bristles-art-studio-ribbon-cutting-12779
END:VEVENT

END:VCALENDAR
