BEGIN:VCALENDAR
VERSION:2.0
PRODID:-//ChamberMaster//Event Calendar 2.0//EN
METHOD:PUBLISH
X-PUBLISHED-TTL:P3D
REFRESH-INTERVAL:P3D
CALSCALE:GREGORIAN
BEGIN:VEVENT
DTSTART;VALUE=DATE:20180704
DTEND;VALUE=DATE:20180705
TRANSP:TRANSPARENT
X-MICROSOFT-CDO-ALLDAYEVENT:TRUE
SUMMARY:Busy Bristles Art Studio Summer Camp
DESCRIPTION:Art Campers will be exposed to a well-rounded experience in multi-media artworks! Ages 5 - 12.\n\n	Sessions need to be paid in full before start date\n	We accept all major Credit Cards\n	Always welcome to stop by studio to sign up
X-ALT-DESC;FMTTYPE=text/html:Art Campers will be exposed to a well-rounded experience in multi-media artworks! Ages 5 - 12.\n<ul>\n	<li><span class="x-el x-el-span x-pri-def x-f-pri-fam x-f-sz-md  ">Sessions need to be paid in full before start date</span></li>\n	<li><span class="x-el x-el-span x-pri-def x-f-pri-fam x-f-sz-md  ">We accept all major Credit Cards</span></li>\n	<li><span class="x-el x-el-span x-pri-def x-f-pri-fam x-f-sz-md  ">Always welcome to stop by studio to sign up</span></li>\n</ul>\n
LOCATION:308A S. Texas Blvd. Weslaco\, TX
UID:e.1244.15820
SEQUENCE:3
DTSTAMP:20260421T041745Z
URL:https://business.weslaco.com/events/details/busy-bristles-art-studio-summer-camp-07-04-2018-15820
END:VEVENT

END:VCALENDAR
