BEGIN:VCALENDAR
VERSION:2.0
PRODID:-//ChamberMaster//Event Calendar 2.0//EN
METHOD:PUBLISH
X-PUBLISHED-TTL:P3D
REFRESH-INTERVAL:P3D
CALSCALE:GREGORIAN
BEGIN:VEVENT
DTSTART:20200720T150000Z
DTEND:20200720T170000Z
X-MICROSOFT-CDO-ALLDAYEVENT:FALSE
SUMMARY:Busy Bristles Art Studio Summer Camp
DESCRIPTION:Art Campers will be exposed to a well-rounded experience in multi-media artworks! Ages 3 & up.\n\n	Sessions need to be paid in full before start date\n	They accept all major Credit Cards\n	Always welcome to stop by studio to sign up\n\nThe art lessons will be taught by owner Cynthia Duran:\n\n\n	certified art teacher with 15 years teaching experience with K-12 certification\;\n	a Bachelor of Arts and a Masters of Art in teaching \n	TAEA member since 2005 \n	UTRGV Cooperating Teacher of Future Educator Preparation and Accountability\n	member of the Weslaco Chamber of Commerce!
X-ALT-DESC;FMTTYPE=text/html:Art Campers will be exposed to a well-rounded experience in multi-media artworks! Ages 3 &amp\; up.\n<ul>\n	<li><span class="x-el x-el-span x-pri-def x-f-pri-fam x-f-sz-md  ">Sessions need to be paid in full before start date</span></li>\n	<li><span class="x-el x-el-span x-pri-def x-f-pri-fam x-f-sz-md  ">They accept all major Credit Cards</span></li>\n	<li><span class="x-el x-el-span x-pri-def x-f-pri-fam x-f-sz-md  ">Always welcome to stop by studio to sign up</span></li>\n</ul>\nThe art lessons will be taught by owner Cynthia Duran:\n\n<ul>\n	<li>certified art teacher with 15 years teaching experience with K-12 certification\;</li>\n	<li>a Bachelor of Arts and a Masters of Art in teaching&nbsp\;</li>\n	<li>TAEA member since 2005&nbsp\;</li>\n	<li>UTRGV Cooperating Teacher of Future Educator Preparation and Accountability</li>\n	<li>member of the Weslaco Chamber of Commerce!</li>\n</ul>\n
LOCATION:318 S. Texas Blvd. Weslaco\, TX
UID:e.1244.19415
SEQUENCE:3
DTSTAMP:20260419T142402Z
URL:https://business.weslaco.com/events/details/busy-bristles-art-studio-summer-camp-07-20-2020-19415
END:VEVENT

END:VCALENDAR
