BEGIN:VCALENDAR
VERSION:2.0
PRODID:-//ChamberMaster//Event Calendar 2.0//EN
METHOD:PUBLISH
X-PUBLISHED-TTL:P3D
REFRESH-INTERVAL:P3D
CALSCALE:GREGORIAN
BEGIN:VEVENT
DTSTART:20190329T153000Z
DTEND:20190329T170000Z
X-MICROSOFT-CDO-ALLDAYEVENT:FALSE
SUMMARY:Butterfly Walk at Estero Llano Grande
DESCRIPTION:Join a park naturalist and observe the vast numbers of colorful butterflies that are attracted to the gardens and wetlands in the park. Many species can be seen in South Texas that occurs nowhere else in the U.S.  For  more information call 956-565-3919.
X-ALT-DESC;FMTTYPE=text/html:<span style="font-family:arial\;">Join a park naturalist and observe the vast numbers of colorful butterflies that are attracted to the gardens and wetlands in the park. Many species can be seen in South Texas that occurs nowhere else in the U.S.&nbsp\; For&nbsp\; more information call 956-565-3919.</span>
LOCATION:Estero Llano Grande State Park 3301 S. International Blvd.
UID:e.1244.12867
SEQUENCE:3
DTSTAMP:20260420T144912Z
URL:https://business.weslaco.com/events/details/butterfly-dragonfly-walks-at-estero-llano-grande-03-29-2019-12867
END:VEVENT

END:VCALENDAR
