BEGIN:VCALENDAR
VERSION:2.0
PRODID:-//ChamberMaster//Event Calendar 2.0//EN
METHOD:PUBLISH
X-PUBLISHED-TTL:P3D
REFRESH-INTERVAL:P3D
CALSCALE:GREGORIAN
BEGIN:VEVENT
DTSTART:20160617T183000Z
DTEND:20160617T213000Z
X-MICROSOFT-CDO-ALLDAYEVENT:FALSE
SUMMARY:Butterfly & Dragonfly Walks at Estero Llano Grande
DESCRIPTION:Join a park naturalist and observe the vast numbers of colorful butterflies and dragonflies that are attracted to the gardens and wetlands in the park. Many species can be seen in South Texas that occurs nowhere else in the U.S.  For  more information call 956-565-3919.
X-ALT-DESC;FMTTYPE=text/html:<span style="font-family:arial\;">Join a park naturalist and observe the vast numbers of colorful butterflies and dragonflies that are attracted to the gardens and wetlands in the park. Many species can be seen in South Texas that occurs nowhere else in the U.S.&nbsp\; For&nbsp\; more information call 956-565-3919.</span>
LOCATION:Estero Llano Grande State Park 3301 S. International Blvd.
UID:e.1244.3552
SEQUENCE:3
DTSTAMP:20260422T215113Z
URL:https://business.weslaco.com/events/details/butterfly-dragonfly-walks-at-estero-llano-grande-06-17-2016-3552
END:VEVENT

END:VCALENDAR
