BEGIN:VCALENDAR
VERSION:2.0
PRODID:-//ChamberMaster//Event Calendar 2.0//EN
METHOD:PUBLISH
X-PUBLISHED-TTL:P3D
REFRESH-INTERVAL:P3D
CALSCALE:GREGORIAN
BEGIN:VEVENT
DTSTART:20200306T193000Z
DTEND:20200306T220000Z
X-MICROSOFT-CDO-ALLDAYEVENT:FALSE
SUMMARY:Butterfly Walk at Estero Llano Grande
DESCRIPTION:Join a park naturalist and observe the vast numbers of colorful butterflies that are attracted to the gardens and wetlands in the park. Many species can be seen in South Texas that occurs nowhere else in the U.S.  For  more information call 956-565-3919.
X-ALT-DESC;FMTTYPE=text/html:<span style="font-family:arial\;">Join a park naturalist and observe the vast numbers of colorful butterflies that are attracted to the gardens and wetlands in the park. Many species can be seen in South Texas that occurs nowhere else in the U.S.&nbsp\; For&nbsp\; more information call 956-565-3919.</span>
LOCATION:Estero Llano Grande State Park 3301 S. International Blvd.
UID:e.1244.18863
SEQUENCE:3
DTSTAMP:20260419T184437Z
URL:https://business.weslaco.com/events/details/butterfly-walk-at-estero-llano-grande-03-06-2020-18863
END:VEVENT

END:VCALENDAR
