BEGIN:VCALENDAR
VERSION:2.0
PRODID:-//ChamberMaster//Event Calendar 2.0//EN
METHOD:PUBLISH
X-PUBLISHED-TTL:P3D
REFRESH-INTERVAL:P3D
CALSCALE:GREGORIAN
BEGIN:VEVENT
DTSTART:20131211T160000Z
DTEND:20131211T180000Z
X-MICROSOFT-CDO-ALLDAYEVENT:FALSE
SUMMARY:Butterfly Walks at Santa Ana NWR
DESCRIPTION:
X-ALT-DESC;FMTTYPE=text/html:
LOCATION:Santa Ana NWR 7 Miles south of Alamo\, TX on FM 907 about 1/4 mile east on Hwy. 281
UID:e.1244.3822
SEQUENCE:3
DTSTAMP:20260424T231722Z
URL:https://business.weslaco.com/events/details/butterfly-walks-at-santa-ana-nwr-12-11-2013-3822
END:VEVENT

END:VCALENDAR
