BEGIN:VCALENDAR
VERSION:2.0
PRODID:-//ChamberMaster//Event Calendar 2.0//EN
METHOD:PUBLISH
X-PUBLISHED-TTL:P3D
REFRESH-INTERVAL:P3D
CALSCALE:GREGORIAN
BEGIN:VEVENT
DTSTART:20150822T000000Z
DTEND:20150822T020000Z
X-MICROSOFT-CDO-ALLDAYEVENT:FALSE
SUMMARY:Campfire S'mores\, Stories and More
DESCRIPTION:Fire\, cooking and stories around the campfire.  Bring your own favorite camp snacks!
X-ALT-DESC;FMTTYPE=text/html:Fire\, cooking and stories around the campfire. &nbsp\;Bring your own favorite camp snacks!
LOCATION:Estero Llano Grande State Park 3301 S. International Blvd. Weslaco\, TX
UID:e.1244.6718
SEQUENCE:3
DTSTAMP:20260423T144928Z
URL:https://business.weslaco.com/events/details/campfire-s-mores-stories-and-more-08-21-2015-6718
END:VEVENT

END:VCALENDAR
