BEGIN:VCALENDAR
VERSION:2.0
PRODID:-//ChamberMaster//Event Calendar 2.0//EN
METHOD:PUBLISH
X-PUBLISHED-TTL:P3D
REFRESH-INTERVAL:P3D
CALSCALE:GREGORIAN
BEGIN:VEVENT
DTSTART:20170413T223000Z
DTEND:20170414T000000Z
X-MICROSOFT-CDO-ALLDAYEVENT:FALSE
SUMMARY:Capital Title of Texas/Willow Bend Mortgage RIbbon Cutting
DESCRIPTION:
X-ALT-DESC;FMTTYPE=text/html:
LOCATION:
UID:e.1244.11953
SEQUENCE:3
DTSTAMP:20260422T053415Z
URL:https://business.weslaco.com/events/details/capital-title-of-texas-willow-bend-mortgage-ribbon-cutting-11953
END:VEVENT

END:VCALENDAR
