BEGIN:VCALENDAR
VERSION:2.0
PRODID:-//ChamberMaster//Event Calendar 2.0//EN
METHOD:PUBLISH
X-PUBLISHED-TTL:P3D
REFRESH-INTERVAL:P3D
CALSCALE:GREGORIAN
BEGIN:VEVENT
DTSTART:20140209T210000Z
DTEND:20140209T230000Z
X-MICROSOFT-CDO-ALLDAYEVENT:FALSE
SUMMARY:Capturing the Golden Light - Photo Safaris
DESCRIPTION:Come and take photos at one of the most beautiful and active times at the park. This is the perfect time to take advantage of the late afternoon lighting. There will be plenty of instruction and suggestions but a basic knowledge of your photo gear would be good. Bring your Camera! Registration and information: 956-565-3919.
X-ALT-DESC;FMTTYPE=text/html:Come and take photos at one of the most beautiful and active times at the park. This is the perfect time to take advantage of the late afternoon lighting. There will be plenty of instruction and suggestions but a basic knowledge of your photo gear would be good. <em>Bring your Camera!</em> Registration and information: 956-565-3919.<br />\n
LOCATION:Estero Llano Grande State Park 3301 S. International Blvd.
UID:e.1244.5030
SEQUENCE:3
DTSTAMP:20260424T212841Z
URL:https://business.weslaco.com/events/details/capturing-the-golden-light-photo-safaris-02-09-2014-5030
END:VEVENT

END:VCALENDAR
