BEGIN:VCALENDAR
VERSION:2.0
PRODID:-//ChamberMaster//Event Calendar 2.0//EN
METHOD:PUBLISH
X-PUBLISHED-TTL:P3D
REFRESH-INTERVAL:P3D
CALSCALE:GREGORIAN
BEGIN:VEVENT
DTSTART:20161216T153000Z
DTEND:20161216T170000Z
X-MICROSOFT-CDO-ALLDAYEVENT:FALSE
SUMMARY:Chalupa Party at Weslaco Nursing and Rehab
DESCRIPTION:Weslaco Nursing and Rehabilitation Center invites you to a Chalupa Party! Bring your Chalupa cards and enjoy refreshments\, music and prizes!
X-ALT-DESC;FMTTYPE=text/html:Weslaco Nursing and Rehabilitation Center invites you to a Chalupa Party! Bring your Chalupa cards and enjoy refreshments\, music and prizes!
LOCATION:422 E.18th Street Weslaco\, TX
UID:e.1244.11496
SEQUENCE:3
DTSTAMP:20260422T115832Z
URL:https://business.weslaco.com/events/details/chalupa-party-at-weslaco-nursing-and-rehab-11496
END:VEVENT

END:VCALENDAR
