BEGIN:VCALENDAR
VERSION:2.0
PRODID:-//ChamberMaster//Event Calendar 2.0//EN
METHOD:PUBLISH
X-PUBLISHED-TTL:P3D
REFRESH-INTERVAL:P3D
CALSCALE:GREGORIAN
BEGIN:VEVENT
DTSTART:20160709T153000Z
DTEND:20160709T220000Z
X-MICROSOFT-CDO-ALLDAYEVENT:FALSE
SUMMARY:Chick-fil-A 2nd Year Birthday Luau
DESCRIPTION:Happy 2nd Birthday to Chick-Fil-A Weslaco! Enjoy music\, performances\, games\, prizes\, photo booth\, costume contest and so much more!
X-ALT-DESC;FMTTYPE=text/html:Happy 2nd Birthday to Chick-Fil-A Weslaco! Enjoy music\, performances\, games\, prizes\, photo&nbsp\;booth\, costume contest and so much more!
LOCATION:1200 N. Westgate Weslaco\, TX
UID:e.1244.10985
SEQUENCE:3
DTSTAMP:20260422T215232Z
URL:https://business.weslaco.com/events/details/chick-fil-a-2nd-year-birthday-luau-07-09-2016-10985
END:VEVENT

END:VCALENDAR
