BEGIN:VCALENDAR
VERSION:2.0
PRODID:-//ChamberMaster//Event Calendar 2.0//EN
METHOD:PUBLISH
X-PUBLISHED-TTL:P3D
REFRESH-INTERVAL:P3D
CALSCALE:GREGORIAN
BEGIN:VEVENT
DTSTART:20170711T000000Z
DTEND:20170711T030000Z
X-MICROSOFT-CDO-ALLDAYEVENT:FALSE
SUMMARY:Chick-fil-A 3rd Year Birthday Picnic
DESCRIPTION:Chick-fil-A Weslaco is celebrating their 3rd Birthday with a picnic! Come enjoy music\, games\, prizes\, rides a movie and photobooth!
X-ALT-DESC;FMTTYPE=text/html:Chick-fil-A Weslaco is celebrating their 3rd Birthday with a picnic! Come enjoy music\, games\, prizes\, rides a movie and photobooth!
LOCATION:1200 N. Westgate Weslaco\, TX
UID:e.1244.12756
SEQUENCE:3
DTSTAMP:20260421T234928Z
URL:https://business.weslaco.com/events/details/chick-fil-a-3rd-year-birthday-picnic-12756
END:VEVENT

END:VCALENDAR
