BEGIN:VCALENDAR
VERSION:2.0
PRODID:-//ChamberMaster//Event Calendar 2.0//EN
METHOD:PUBLISH
X-PUBLISHED-TTL:P3D
REFRESH-INTERVAL:P3D
CALSCALE:GREGORIAN
BEGIN:VEVENT
DTSTART:20180428T140000Z
DTEND:20180428T160000Z
X-MICROSOFT-CDO-ALLDAYEVENT:FALSE
SUMMARY:Chick-fil-A Autism Speaks Event
DESCRIPTION:Join Chick-fil-A of Weslaco as they host a very special event designated for special\, heartwarming children and their parents. Enjoy a morning filled with crafts\, painting and sensory games.
X-ALT-DESC;FMTTYPE=text/html:Join Chick-fil-A of Weslaco as they host a very special event designated for special\, heartwarming children and their parents. Enjoy a morning filled with crafts\, painting and sensory games.
LOCATION:Chick-fil-A Weslaco 1200 N. Westgate Dr.
UID:e.1244.16869
SEQUENCE:3
DTSTAMP:20260421T105922Z
URL:https://business.weslaco.com/events/details/chick-fil-a-autism-speaks-event-16869
END:VEVENT

END:VCALENDAR
