BEGIN:VCALENDAR
VERSION:2.0
PRODID:-//ChamberMaster//Event Calendar 2.0//EN
METHOD:PUBLISH
X-PUBLISHED-TTL:P3D
REFRESH-INTERVAL:P3D
CALSCALE:GREGORIAN
BEGIN:VEVENT
DTSTART:20190420T140000Z
DTEND:20190420T160000Z
X-MICROSOFT-CDO-ALLDAYEVENT:FALSE
SUMMARY:Chick-fil-A Easter Egg Hunt
DESCRIPTION:Hop on over to Chick-fil-A Weslaco for a fun filled EASTER EGG HUNT!  \n\nJoin us Saturday\, April 20th\, for an EGGcellent time! There will be Spring Crafts and don't forget to get a picture with our Chick-fil-A Bunny! Little chicken eaters dressed in their best spring costumes get a chance to win a prize! \n\n**Baskets or bags will NOT be provided\, please bring a basket or bag with you the day of the event!   **
X-ALT-DESC;FMTTYPE=text/html:<span style="color: rgb(29\, 33\, 41)\; font-family: Helvetica\, Arial\, sans-serif\; font-size: 14px\; white-space: pre-wrap\;">Hop on over to Chick-fil-A Weslaco for a fun filled EASTER EGG HUNT! &#128035\;</span><br style="color: rgb(29\, 33\, 41)\; font-family: Helvetica\, Arial\, sans-serif\; font-size: 14px\; white-space: pre-wrap\;" />\n<span style="color: rgb(29\, 33\, 41)\; font-family: Helvetica\, Arial\, sans-serif\; font-size: 14px\; white-space: pre-wrap\;">Join us Saturday\, April 20th\, for an EGGcellent time! There will be Spring Crafts and don&rsquo\;t forget to get a picture with our Chick-fil-A Bunny! Little chicken eaters dressed in their best spring costumes get a chance to win a prize! </span><br style="color: rgb(29\, 33\, 41)\; font-family: Helvetica\, Arial\, sans-serif\; font-size: 14px\; white-space: pre-wrap\;" />\n<span style="color: rgb(29\, 33\, 41)\; font-family: Helvetica\, Arial\, sans-serif\; font-size: 14px\; white-space: pre-wrap\;">**Baskets or bags will NOT be provided\, please bring a basket or bag with you the day of the event! &#9786\;&#65039\;**</span>
LOCATION:Chick -fil-A Weslaco 1200 N. Westgate
UID:e.1244.18130
SEQUENCE:3
DTSTAMP:20260420T130052Z
URL:https://business.weslaco.com/events/details/chick-fil-a-easter-egg-hunt-18130
END:VEVENT

END:VCALENDAR
