BEGIN:VCALENDAR
VERSION:2.0
PRODID:-//ChamberMaster//Event Calendar 2.0//EN
METHOD:PUBLISH
X-PUBLISHED-TTL:P3D
REFRESH-INTERVAL:P3D
CALSCALE:GREGORIAN
BEGIN:VEVENT
DTSTART:20170710T150000Z
DTEND:20170710T160000Z
X-MICROSOFT-CDO-ALLDAYEVENT:FALSE
SUMMARY:Chick-fil-A Flag Raising Ceremony
DESCRIPTION:Celebrating their 3rd year in Weslaco!
X-ALT-DESC;FMTTYPE=text/html:Celebrating their 3rd year in Weslaco!
LOCATION:1200 N. Westgate
UID:e.1244.12755
SEQUENCE:3
DTSTAMP:20260421T234740Z
URL:https://business.weslaco.com/events/details/chick-fil-a-flag-raising-ceremony-12755
END:VEVENT

END:VCALENDAR
