BEGIN:VCALENDAR
VERSION:2.0
PRODID:-//ChamberMaster//Event Calendar 2.0//EN
METHOD:PUBLISH
X-PUBLISHED-TTL:P3D
REFRESH-INTERVAL:P3D
CALSCALE:GREGORIAN
BEGIN:VEVENT
DTSTART:20140710T140000Z
DTEND:20140710T150000Z
X-MICROSOFT-CDO-ALLDAYEVENT:FALSE
SUMMARY:Chick-Fil-A Grand Opening
DESCRIPTION:Chick-Fil-A Grand Opening and Ribbon Cutting
X-ALT-DESC;FMTTYPE=text/html:Chick-Fil-A Grand Opening and Ribbon Cutting
LOCATION:1200 N. Westgate Drive Weslaco TX
UID:e.1244.5930
SEQUENCE:3
DTSTAMP:20260424T104306Z
URL:https://business.weslaco.com/events/details/chick-fil-a-grand-opening-07-10-2014-5930
END:VEVENT

END:VCALENDAR
