BEGIN:VCALENDAR
VERSION:2.0
PRODID:-//ChamberMaster//Event Calendar 2.0//EN
METHOD:PUBLISH
X-PUBLISHED-TTL:P3D
REFRESH-INTERVAL:P3D
CALSCALE:GREGORIAN
BEGIN:VEVENT
DTSTART:20190511T140000Z
DTEND:20190511T153000Z
X-MICROSOFT-CDO-ALLDAYEVENT:FALSE
SUMMARY:Chick-fil-A Mother's Day Event
DESCRIPTION:Moms! Come be pampered like a queen! Bring your little ones for a morning at the spa.
X-ALT-DESC;FMTTYPE=text/html:Moms! Come be pampered like a queen! Bring your little ones for a morning at the spa.
LOCATION:Chick-fil-A Weslaco 1200 N. Westgate Dr.
UID:e.1244.18175
SEQUENCE:3
DTSTAMP:20260420T113431Z
URL:https://business.weslaco.com/events/details/chick-fil-a-mother-s-day-event-18175
END:VEVENT

END:VCALENDAR
