BEGIN:VCALENDAR
VERSION:2.0
PRODID:-//ChamberMaster//Event Calendar 2.0//EN
METHOD:PUBLISH
X-PUBLISHED-TTL:P3D
REFRESH-INTERVAL:P3D
CALSCALE:GREGORIAN
BEGIN:VEVENT
DTSTART:20150117T143000Z
DTEND:20150117T163000Z
X-MICROSOFT-CDO-ALLDAYEVENT:FALSE
SUMMARY:Chick-fil-A Pajama Party
DESCRIPTION:Bring your little ones dressed in their pajamas for a fun-filled pajama party!
X-ALT-DESC;FMTTYPE=text/html:Bring your little ones dressed in their pajamas for a fun-filled pajama party!&nbsp\;&nbsp\;&nbsp\;&nbsp\;
LOCATION:Chick-fil-A Weslaco 1200 N. Westgate
UID:e.1244.6024
SEQUENCE:3
DTSTAMP:20260424T002632Z
URL:https://business.weslaco.com/events/details/chick-fil-a-pajama-party-01-17-2015-6024
END:VEVENT

END:VCALENDAR
