BEGIN:VCALENDAR
VERSION:2.0
PRODID:-//ChamberMaster//Event Calendar 2.0//EN
METHOD:PUBLISH
X-PUBLISHED-TTL:P3D
REFRESH-INTERVAL:P3D
CALSCALE:GREGORIAN
BEGIN:VEVENT
DTSTART:20191031T233000Z
DTEND:20191101T013000Z
X-MICROSOFT-CDO-ALLDAYEVENT:FALSE
SUMMARY:Chick-fil-A Trunk or Treat
DESCRIPTION:Dress up in your best costume for a chance to win a prize!!\n\nDon't forget to donate Halloween candy for our Trunk or Treat event to receive 2 Chick-fil-A digital offer cards!!
X-ALT-DESC;FMTTYPE=text/html:<span style="color: rgb(29\, 33\, 41)\; font-family: Helvetica\, Arial\, sans-serif\; font-size: 14px\;">Dress up in your best costume for a chance to win a prize!!</span><br style="color: rgb(29\, 33\, 41)\; font-family: Helvetica\, Arial\, sans-serif\; font-size: 14px\;" />\n<span style="color: rgb(29\, 33\, 41)\; font-family: Helvetica\, Arial\, sans-serif\; font-size: 14px\;">Don&rsquo\;t forget to donate Halloween candy for our Trunk or Treat event to receive 2 Chick-fil-A digital offer cards!!</span>
LOCATION:Chick-fil-A Weslaco
UID:e.1244.18809
SEQUENCE:3
DTSTAMP:20260420T030331Z
URL:https://business.weslaco.com/events/details/chick-fil-a-trunk-or-treat-18809
END:VEVENT

END:VCALENDAR
