BEGIN:VCALENDAR
VERSION:2.0
PRODID:-//ChamberMaster//Event Calendar 2.0//EN
METHOD:PUBLISH
X-PUBLISHED-TTL:P3D
REFRESH-INTERVAL:P3D
CALSCALE:GREGORIAN
BEGIN:VEVENT
DTSTART:20190817T000000Z
DTEND:20190817T020000Z
X-MICROSOFT-CDO-ALLDAYEVENT:FALSE
SUMMARY:Chick-fil-A Weslaco Back to School Block Party
DESCRIPTION:Enjoy live music and backpack raffle!
X-ALT-DESC;FMTTYPE=text/html:Enjoy live music and backpack raffle!
LOCATION:1200 N. Westgate Dr.
UID:e.1244.18728
SEQUENCE:3
DTSTAMP:20260420T062633Z
URL:https://business.weslaco.com/events/details/chick-fil-a-weslaco-back-to-school-block-party-18728
END:VEVENT

END:VCALENDAR
