BEGIN:VCALENDAR
VERSION:2.0
PRODID:-//ChamberMaster//Event Calendar 2.0//EN
METHOD:PUBLISH
X-PUBLISHED-TTL:P3D
REFRESH-INTERVAL:P3D
CALSCALE:GREGORIAN
BEGIN:VEVENT
DTSTART:20170909T150000Z
DTEND:20170909T163000Z
X-MICROSOFT-CDO-ALLDAYEVENT:FALSE
SUMMARY:Children's Painting Class at Frontera Audubon
DESCRIPTION:In the story 'Color Journey'\, children see how colors are alive\, how they have qualities and gestures that can form pictures in a truthfully natural way. From the color circle\, to the Rainbow Bridge\, the colors journey to a relationship with each individual child.\n\n\n\nPainting teacher: Diane Roman-Goldsberry\n\n\n\nWhen: Saturday\, Sept 9th\, 2017 at 10 am\n\nFee: $10 donation to Frontera Audubon\n\nAges 6 - 10 only!\n\n\n\n*SPACE IS LIMITED | MUST PRE-REGISTER!*\n\nTo register please send your child's name\, age\, and a parent/guardians name and contact info to FronteraNature@gmail.com.\n\n\n\n*These classes are sponsored by the Raphael Cultural and Artistic Research Association\, Inc*
X-ALT-DESC;FMTTYPE=text/html:<span class="_4n-j _3cht fsl" data-testid="event-permalink-details">In the story &#39\;Color Journey&#39\;\, children see how colors are alive\, how they have qualities and gestures that can form pictures in a truthfully natural way. From the color circle\, to the Rainbow Bridge\, the colors journey to a relationship with each individual child.<br />\n<br />\nPainting teacher: Diane Roman-Goldsberry<br />\n<br />\nWhen: Saturday\, Sept 9th\, 2017 at 10 am<br />\nFee: $10 donation to Frontera Audubon<br />\nAges 6 - 10 only!<br />\n<br />\n*SPACE IS LIMITED | MUST PRE-REGISTER!*<br />\nTo register please send your child&#39\;s name\, age\, and a parent/guardians name and contact info to FronteraNature@gmail.com.<br />\n<br />\n*These classes are sponsored by the Raphael Cultural and Artistic Research Association\, Inc*</span>
LOCATION:1101 S. Texas Weslaco
UID:e.1244.14392
SEQUENCE:3
DTSTAMP:20260421T202933Z
URL:https://business.weslaco.com/events/details/children-s-painting-class-at-frontera-audubon-14392
END:VEVENT

END:VCALENDAR
