BEGIN:VCALENDAR
VERSION:2.0
PRODID:-//ChamberMaster//Event Calendar 2.0//EN
METHOD:PUBLISH
X-PUBLISHED-TTL:P3D
REFRESH-INTERVAL:P3D
CALSCALE:GREGORIAN
BEGIN:VEVENT
DTSTART:20180113T160000Z
DTEND:20180113T180000Z
X-MICROSOFT-CDO-ALLDAYEVENT:FALSE
SUMMARY:Children's Painting Class at Frontera Audubon
DESCRIPTION:The depth of winter is the time for star stories. In "I Reach For The Stars"\, children see a painted story about the creative power of a star. When we feel this 'sun power' in ourselves we can also shed light into the world through the beauty of our artistic creations. After the story\, the children will paint two water color pictures in which they are reaching for and finding their stars. \n\nAges 6-10\, pre-registration required
X-ALT-DESC;FMTTYPE=text/html:<span class="_4n-j _3cht fsl" data-testid="event-permalink-details">The depth of winter is the time for star stories. In &quot\;I Reach For The Stars&quot\;\, children see a painted story about the creative power of a star. When we feel this &#39\;sun power&#39\; in ourselves we can also shed light into the world through the beauty of our artistic creations. After the story\, the children will paint two water color pictures in which they are reaching for and finding their stars. </span><br />\nAges 6-10\, pre-registration required&nbsp\;&nbsp\;&nbsp\;&nbsp\;
LOCATION:Frontera Audubon 1101 S. Texas
UID:e.1244.14473
SEQUENCE:3
DTSTAMP:20260421T142536Z
URL:https://business.weslaco.com/events/details/children-s-painting-class-at-frontera-audubon-14473
END:VEVENT

END:VCALENDAR
