BEGIN:VCALENDAR
VERSION:2.0
PRODID:-//ChamberMaster//Event Calendar 2.0//EN
METHOD:PUBLISH
X-PUBLISHED-TTL:P3D
REFRESH-INTERVAL:P3D
CALSCALE:GREGORIAN
BEGIN:VEVENT
DTSTART:20150128T013000Z
DTEND:20150128T023000Z
X-MICROSOFT-CDO-ALLDAYEVENT:FALSE
SUMMARY:Christina Mild will present "Vines and more vines: What are they good for?"
DESCRIPTION:"Vines and more vines: What are they good for?" Christina Mild answers this question and more. Christina's programs are always entertaining and educational. Come explore the myriad world of vines on Tuesday\, January 27 at 7:30 p.m. Valley Nature Center's 301 S. Border\, Weslaco. Refreshments will be served as we celebrate the start of our 31st year of native plant education.
X-ALT-DESC;FMTTYPE=text/html:&quot\;Vines and more vines: What are they good for?&quot\; Christina Mild answers this question and more. Christina&#39\;s programs are always entertaining and educational. Come explore the myriad world of vines on Tuesday\, January 27 at 7:30 p.m. Valley Nature Center&#39\;s 301 S. Border\, Weslaco. Refreshments will be served as we celebrate the start of our 31st year of native plant education.
LOCATION:Valley Nature Center 301 South Border Ave. Weslaco\, Texas 78596
UID:e.1244.6026
SEQUENCE:3
DTSTAMP:20260424T003032Z
URL:https://business.weslaco.com/events/details/christina-mild-will-present-vines-and-more-vines-what-are-they-good-for-01-27-2015-6026
END:VEVENT

END:VCALENDAR
