BEGIN:VCALENDAR
VERSION:2.0
PRODID:-//ChamberMaster//Event Calendar 2.0//EN
METHOD:PUBLISH
X-PUBLISHED-TTL:P3D
REFRESH-INTERVAL:P3D
CALSCALE:GREGORIAN
BEGIN:VEVENT
DTSTART:20181216T000000Z
DTEND:20181216T020000Z
X-MICROSOFT-CDO-ALLDAYEVENT:FALSE
SUMMARY:Christmas in Whoville at Chick-Fil-A Weslaco
DESCRIPTION:Enjoy games\, food\, live music\, prizes and a toy drive\, all in Whoville!! Check out the photo booth and costume contest also!
X-ALT-DESC;FMTTYPE=text/html:Enjoy games\, food\, live music\, prizes and a toy drive\, all in Whoville!! Check out the photo booth and costume contest also!
LOCATION:Chick-Fil-A Weslaco Westgate and Expressway 83
UID:e.1244.17036
SEQUENCE:3
DTSTAMP:20260420T213953Z
URL:https://business.weslaco.com/events/details/christmas-in-whoville-at-chick-fil-a-weslaco-17036
END:VEVENT

END:VCALENDAR
