BEGIN:VCALENDAR
VERSION:2.0
PRODID:-//ChamberMaster//Event Calendar 2.0//EN
METHOD:PUBLISH
X-PUBLISHED-TTL:P3D
REFRESH-INTERVAL:P3D
CALSCALE:GREGORIAN
BEGIN:VEVENT
DTSTART;VALUE=DATE:20211127
DTEND;VALUE=DATE:20220109
TRANSP:TRANSPARENT
X-MICROSOFT-CDO-ALLDAYEVENT:TRUE
SUMMARY:Christmas Light Display
DESCRIPTION:Christmas Light display to be displayed along City Hall Parking Lot.
X-ALT-DESC;FMTTYPE=text/html:Christmas Light display to be displayed along City Hall Parking Lot.
LOCATION:Weslaco City Hall 275 S. Kansas Weslaco\, TX 78596
UID:e.1244.20576
SEQUENCE:3
DTSTAMP:20260421T220140Z
URL:https://business.weslaco.com/events/details/christmas-light-display-20576
END:VEVENT

END:VCALENDAR
