BEGIN:VCALENDAR
VERSION:2.0
PRODID:-//ChamberMaster//Event Calendar 2.0//EN
METHOD:PUBLISH
X-PUBLISHED-TTL:P3D
REFRESH-INTERVAL:P3D
CALSCALE:GREGORIAN
BEGIN:VEVENT
DTSTART:20160421T230000Z
DTEND:20160422T003000Z
X-MICROSOFT-CDO-ALLDAYEVENT:FALSE
SUMMARY:Cinco de Mammo Girls Night Out
DESCRIPTION:Join South Texas Health System for a special Girls Night Out\, kicking off their 3rd Annual Cinco de Mammo event.  Come learn more about mammography from the staff\, pick up information about breast health and enjoy a margarita\, appetizers and free gifts. View the kick off telenovela video and meet the cast! You can sign up for appointments onsite. Bring the muchachas - your mom\, sister or best friend
X-ALT-DESC;FMTTYPE=text/html:Join South Texas Health System for a special Girls Night Out\,&nbsp\;kicking off their 3rd Annual Cinco de Mammo event. &nbsp\;Come learn more about mammography from the staff\, pick up information about breast health and enjoy a margarita\,&nbsp\;appetizers and free gifts. View the kick off telenovela video and meet the cast! You can sign up for appointments&nbsp\;onsite.&nbsp\;Bring the muchachas - your mom\, sister or best friend&nbsp\;
LOCATION:Costa Messa 5248 N. 10th McAllen\, TX 78501
UID:e.1244.10948
SEQUENCE:3
DTSTAMP:20260423T005631Z
URL:https://business.weslaco.com/events/details/cinco-de-mammo-girls-night-out-04-21-2016-10948
END:VEVENT

END:VCALENDAR
