BEGIN:VCALENDAR
VERSION:2.0
PRODID:-//ChamberMaster//Event Calendar 2.0//EN
METHOD:PUBLISH
X-PUBLISHED-TTL:P3D
REFRESH-INTERVAL:P3D
CALSCALE:GREGORIAN
BEGIN:VEVENT
DTSTART:20180424T223000Z
DTEND:20180425T003000Z
X-MICROSOFT-CDO-ALLDAYEVENT:FALSE
SUMMARY:Cinco de Mammo Girls Night Out
DESCRIPTION:Join South Texas Health System for a special Girls Night Out\, kicking off their 5th Annual Cinco de Mammo event.  Come learn more about mammography from the staff\, pick up information about breast health and enjoy refreshments and free gifts. You can sign up for appointments onsite. Bring the muchachas - your mom\, sister or best friend .
X-ALT-DESC;FMTTYPE=text/html:Join South Texas Health System for a special Girls Night Out\,&nbsp\;kicking off their 5th Annual Cinco de Mammo event. &nbsp\;Come learn more about mammography from the staff\, pick up information about breast health and enjoy refreshments and free gifts. You can sign up for appointments&nbsp\;onsite.&nbsp\;Bring the muchachas - your mom\, sister or best friend .
LOCATION:Nana's Taqueria 1802 S. International Blvd. Weslaco\, TX
UID:e.1244.15864
SEQUENCE:3
DTSTAMP:20260421T093537Z
URL:https://business.weslaco.com/events/details/cinco-de-mammo-girls-night-out-15864
END:VEVENT

END:VCALENDAR
