BEGIN:VCALENDAR
VERSION:2.0
PRODID:-//ChamberMaster//Event Calendar 2.0//EN
METHOD:PUBLISH
X-PUBLISHED-TTL:P3D
REFRESH-INTERVAL:P3D
CALSCALE:GREGORIAN
BEGIN:VEVENT
DTSTART:20180502T120000Z
DTEND:20180503T000000Z
X-MICROSOFT-CDO-ALLDAYEVENT:FALSE
SUMMARY:Cinco de Mammo Week at STHS ER at Weslaco
DESCRIPTION:It's Cinco de Mammo week! During the week of April 30 through May 4\, South Texas Health System celebrates a special week dedicated to the early detection of breast cancer. South Texas Health System facilities\, including STHS ER Weslaco\, will offer reduced price mammograms\, extended hours and a fiesta atmosphere- aguas frescas\, fiesta-themed food and Mexican decor. We are encouraging women to bring a muchacha - your mom\, sister\, or amiga - to get a mammogram during Cinco de Mammo week.
X-ALT-DESC;FMTTYPE=text/html:<span style="color:black\;"><span style="font-family:arial\,sans-serif\;"><span style="font-size:11.0pt\;">It&#39\;s Cinco de Mammo week! During the week of April 30 through May 4\, South Texas Health System celebrates a special week dedicated to the early detection of breast cancer. South Texas Health System facilities\, including STHS ER Weslaco\, will offer reduced price mammograms\, extended hours and a fiesta atmosphere- aguas frescas\, fiesta-themed food and Mexican decor. We are encouraging women to bring a muchacha - your mom\, sister\, or amiga - to get a mammogram during Cinco de Mammo week.</span></span></span>
LOCATION:STHS ER Weslaco 330 W. Expressway 83 Weslaco\, TX
UID:e.1244.16883
SEQUENCE:3
DTSTAMP:20260421T093903Z
URL:https://business.weslaco.com/events/details/cinco-de-mammo-week-at-sths-er-at-weslaco-05-02-2018-16883
END:VEVENT

END:VCALENDAR
