BEGIN:VCALENDAR
VERSION:2.0
PRODID:-//ChamberMaster//Event Calendar 2.0//EN
METHOD:PUBLISH
X-PUBLISHED-TTL:P3D
REFRESH-INTERVAL:P3D
CALSCALE:GREGORIAN
BEGIN:VEVENT
DTSTART:20180505T150000Z
DTEND:20180505T160000Z
X-MICROSOFT-CDO-ALLDAYEVENT:FALSE
SUMMARY:Cinco de Mayo Story and Craft at Weslaco's Daily Grind
DESCRIPTION:Start the Cinco de Mayo Celebration at 10 am with us!\n\n\n\nJoin the 956kids pop-up event at the Daily Grind in Weslaco!\n\nThis FREE event is a story and craft about Cinco de Mayo. A book will be read and a craft will follow. All ages of children and parents are welcomed to join.\n\n\n\nSponsored by: Daily Grind Weslaco's Daily Grind LLC.
X-ALT-DESC;FMTTYPE=text/html:<span>Start the Cinco de Mayo Celebration at 10 am with us!<br />\n<br />\nJoin the 956kids pop-up event at the Daily Grind in Weslaco!<br />\nThis FREE event is a story and craft about Cinco de Mayo. A book will be read and a craft will follow. All ages of children and parents are welcomed to join.<br />\n<br />\nSponsored by: Daily Grind <a href="https://www.facebook.com/WeslacosDG/">Weslaco&#39\;s Daily Grind LLC.</a></span>
LOCATION:Weslaco's Daily Grind 409 S. Missouri Ave.
UID:e.1244.16876
SEQUENCE:3
DTSTAMP:20260421T094216Z
URL:https://business.weslaco.com/events/details/cinco-de-mayo-story-and-craft-at-weslaco-s-daily-grind-16876
END:VEVENT

END:VCALENDAR
