BEGIN:VCALENDAR
VERSION:2.0
PRODID:-//ChamberMaster//Event Calendar 2.0//EN
METHOD:PUBLISH
X-PUBLISHED-TTL:P3D
REFRESH-INTERVAL:P3D
CALSCALE:GREGORIAN
BEGIN:VEVENT
DTSTART:20151007T230000Z
DTEND:20151008T010000Z
X-MICROSOFT-CDO-ALLDAYEVENT:FALSE
SUMMARY:City Commission Candidate Forum
DESCRIPTION:City Commission candidates Places 1\,4 & 5 will be on hand answering questions and discussing issues.
X-ALT-DESC;FMTTYPE=text/html:City Commission candidates Places 1\,4 &amp\; 5 will be on hand answering questions and discussing issues.
LOCATION:Business Visitor & Event Center 275 S. Kansas
UID:e.1244.8741
SEQUENCE:3
DTSTAMP:20260423T095144Z
URL:https://business.weslaco.com/events/details/city-commission-candidate-forum-10-07-2015-8741
END:VEVENT

END:VCALENDAR
