BEGIN:VCALENDAR
VERSION:2.0
PRODID:-//ChamberMaster//Event Calendar 2.0//EN
METHOD:PUBLISH
X-PUBLISHED-TTL:P3D
REFRESH-INTERVAL:P3D
CALSCALE:GREGORIAN
BEGIN:VEVENT
DTSTART:20190626T230000Z
DTEND:20190627T010000Z
X-MICROSOFT-CDO-ALLDAYEVENT:FALSE
SUMMARY:City Commission Candidate Forum
DESCRIPTION:City Commission candidates Place 4 will be answering questions in a timed forum format.
X-ALT-DESC;FMTTYPE=text/html:City Commission candidates Place 4 will be answering questions in a timed forum format.
LOCATION:Business Visitor & Event Center 275 S. Kansas
UID:e.1244.18693
SEQUENCE:3
DTSTAMP:20260420T093830Z
URL:https://business.weslaco.com/events/details/city-commission-candidate-forum-18693
END:VEVENT

END:VCALENDAR
