BEGIN:VCALENDAR
VERSION:2.0
PRODID:-//ChamberMaster//Event Calendar 2.0//EN
METHOD:PUBLISH
X-PUBLISHED-TTL:P3D
REFRESH-INTERVAL:P3D
CALSCALE:GREGORIAN
BEGIN:VEVENT
DTSTART:20180421T130000Z
DTEND:20180421T160000Z
X-MICROSOFT-CDO-ALLDAYEVENT:FALSE
SUMMARY:City of Weslaco Clean Sweep
DESCRIPTION:The City of Weslaco along with help from our partners in an effort to keep our community looking beautiful\, reducing public health and fire hazards\, are conducting an area wide clean up. The area targeted for this time will be West of Nebraska to Westgate Dr. and Bus. 83 to 6th Street.\n\n\n\nBring all your unwanted stuff to get properly disposed of.
X-ALT-DESC;FMTTYPE=text/html:<span class="_4n-j _3cht fsl" data-testid="event-permalink-details">The City of Weslaco along with help from our partners in an effort to keep our community looking beautiful\, reducing public health and fire hazards\, are conducting an area wide clean up. The area targeted for this time will be West of Nebraska to Westgate Dr. and Bus. 83 to 6th Street.<br />\n<br />\nBring all your unwanted stuff to get properly disposed of. </span>
LOCATION:Gibson City Park 301 S. Border
UID:e.1244.15856
SEQUENCE:3
DTSTAMP:20260421T093948Z
URL:https://business.weslaco.com/events/details/city-of-weslaco-clean-sweep-15856
END:VEVENT

END:VCALENDAR
