BEGIN:VCALENDAR
VERSION:2.0
PRODID:-//ChamberMaster//Event Calendar 2.0//EN
METHOD:PUBLISH
X-PUBLISHED-TTL:P3D
REFRESH-INTERVAL:P3D
CALSCALE:GREGORIAN
BEGIN:VEVENT
DTSTART:20180711T223000Z
DTEND:20180712T003000Z
X-MICROSOFT-CDO-ALLDAYEVENT:FALSE
SUMMARY:City of Weslaco Flood Forum
DESCRIPTION:Emergency Operations\, Engineering\, and Drainage staff will discuss the following related to the June 20\, 2018 localized flood:\n\n\n\n  The immediate response\,\n\n  Ongoing relief activities\,\n\n  Next steps.\n\nPublic comments are welcome\; please register in person with the City Secretary before the forum starts.
X-ALT-DESC;FMTTYPE=text/html:<p>Emergency Operations\, Engineering\, and Drainage staff will discuss the following related to the June 20\, 2018 localized flood:<br />\n<br />\n&bull\; The immediate response\,<br />\n&bull\; Ongoing relief activities\,<br />\n&bull\; Next steps.</p>\n\n<p>Public comments are welcome\; please register in person with the City Secretary before the forum starts.<br />\n&nbsp\;</p>\n
LOCATION:Weslaco City Hall 255 S. Kansas
UID:e.1244.16923
SEQUENCE:3
DTSTAMP:20260421T042509Z
URL:https://business.weslaco.com/events/details/city-of-weslaco-flood-forum-16923
END:VEVENT

END:VCALENDAR
